BEGIN:VCALENDAR
VERSION:2.0
PRODID:spatie/icalendar-generator
NAME:Un temps d&rsquo\;histoire
X-WR-CALNAME:Un temps d&rsquo\;histoire
DESCRIPTION:Ville de Saint-Sebastien-sur-Loire
X-WR-CALDESC:Ville de Saint-Sebastien-sur-Loire
BEGIN:VEVENT
UID:69e65e4b5365b
SUMMARY:Un temps d’histoire
DESCRIPTION:Un moment pendant lequel les enfants se retrouvent pour écoute
 r des histoires racontées par une bibliothécaire.\n
DTSTART;TZID=Europe/Paris:20250429T103000
DTEND;TZID=Europe/Paris:20250429T110000
DTSTAMP;TZID=Europe/Paris:20260420T191139
END:VEVENT
END:VCALENDAR