BEGIN:VCALENDAR
VERSION:2.0
PRODID:spatie/icalendar-generator
NAME:Pitch BD
X-WR-CALNAME:Pitch BD
DESCRIPTION:Ville de Saint-Sebastien-sur-Loire
X-WR-CALDESC:Ville de Saint-Sebastien-sur-Loire
BEGIN:VEVENT
UID:69e65b9d165b3
SUMMARY:Pitch BD
DESCRIPTION:Avis aux amateurs d’art séquentiel\, de planches et de strip
 s ! Venez découvrir les dernières acquisitions de la médiathèque et é
 changer autour de la BD !\n
DTSTART;TZID=Europe/Paris:20260626T180000
DTEND;TZID=Europe/Paris:20260626T190000
DTSTAMP;TZID=Europe/Paris:20260420T190013
END:VEVENT
END:VCALENDAR