BEGIN:VCALENDAR
VERSION:2.0
PRODID:spatie/icalendar-generator
NAME:Blabl&rsquo\;art
X-WR-CALNAME:Blabl&rsquo\;art
DESCRIPTION:Ville de Saint-Sebastien-sur-Loire
X-WR-CALDESC:Ville de Saint-Sebastien-sur-Loire
BEGIN:VEVENT
UID:69e65e01bc5db
SUMMARY:Blabl’art
DESCRIPTION:Un crime semble sur le point d’être commis. Mais qui est la 
 victime\, qui est le criminel et surtout\, quel est le mobile ? Ton oeil a
 ffuté et ton sens de la déduction parviendront-ils à répondre à ces q
 uestions ?\n
DTSTART;TZID=Europe/Paris:20260523T110000
DTEND;TZID=Europe/Paris:20260523T120000
DTSTAMP;TZID=Europe/Paris:20260420T191025
END:VEVENT
END:VCALENDAR