BEGIN:VCALENDAR
VERSION:2.0
PRODID:spatie/icalendar-generator
NAME:Happy livres hour
X-WR-CALNAME:Happy livres hour
DESCRIPTION:Ville de Saint-Sebastien-sur-Loire
X-WR-CALDESC:Ville de Saint-Sebastien-sur-Loire
BEGIN:VEVENT
UID:69e65bc08ed22
SUMMARY:Happy livres hour
DESCRIPTION:Des rencontres pour découvrir des romans\, trouver des idées 
 de livres et échanger sur ses lectures en toute simplicité.\n
DTSTART;TZID=Europe/Paris:20260522T180000
DTEND;TZID=Europe/Paris:20260522T193000
DTSTAMP;TZID=Europe/Paris:20260420T190048
END:VEVENT
END:VCALENDAR