BEGIN:VCALENDAR
VERSION:2.0
PRODID:spatie/icalendar-generator
NAME:Intimes
X-WR-CALNAME:Intimes
DESCRIPTION:Ville de Saint-Sebastien-sur-Loire
X-WR-CALDESC:Ville de Saint-Sebastien-sur-Loire
BEGIN:VEVENT
UID:69ece638dc15e
SUMMARY:Intimes
DESCRIPTION:Par les participants des ateliers de l’Amicale laïque de Sai
 nt-Sébastien L’Atelier Art’Bis (atelier d’arts plastiques) et la Pl
 ume au Vent (atelier d’écriture) de l’Amicale Laïque de Saint-Sébas
 tien vous présentent les fruits de leur collaboration : peintures et text
 es courts autour du thème de « l’Intime ».\n
DTSTART;TZID=Europe/Paris:20260519T180512
DTEND;TZID=Europe/Paris:20260530T163000
DTSTAMP;TZID=Europe/Paris:20260425T180512
END:VEVENT
END:VCALENDAR